BEGIN:VCALENDAR
VERSION:2.0
PRODID:-//Cobbs Glen Country Club - ECPv6.15.20//NONSGML v1.0//EN
CALSCALE:GREGORIAN
METHOD:PUBLISH
X-WR-CALNAME:Cobbs Glen Country Club
X-ORIGINAL-URL:https://cobbsglen.cc
X-WR-CALDESC:Events for Cobbs Glen Country Club
REFRESH-INTERVAL;VALUE=DURATION:PT1H
X-Robots-Tag:noindex
X-PUBLISHED-TTL:PT1H
BEGIN:VTIMEZONE
TZID:UTC
BEGIN:STANDARD
TZOFFSETFROM:+0000
TZOFFSETTO:+0000
TZNAME:UTC
DTSTART:20250101T000000
END:STANDARD
END:VTIMEZONE
BEGIN:VEVENT
DTSTART;VALUE=DATE:20260421
DTEND;VALUE=DATE:20260422
DTSTAMP:20260420T151745
CREATED:20260129T211813Z
LAST-MODIFIED:20260129T211813Z
UID:10000003-1776729600-1776815999@cobbsglen.cc
SUMMARY:PGA Junior League
DESCRIPTION:
URL:https://cobbsglen.cc/event/pga-junior-league/2026-04-21/
END:VEVENT
BEGIN:VEVENT
DTSTART;VALUE=DATE:20260428
DTEND;VALUE=DATE:20260429
DTSTAMP:20260420T151745
CREATED:20260129T211813Z
LAST-MODIFIED:20260129T211813Z
UID:10000004-1777334400-1777420799@cobbsglen.cc
SUMMARY:PGA Junior League
DESCRIPTION:
URL:https://cobbsglen.cc/event/pga-junior-league/2026-04-28/
END:VEVENT
END:VCALENDAR