BEGIN:VCALENDAR
VERSION:2.0
PRODID:-//Cobbs Glen Country Club - ECPv6.15.20//NONSGML v1.0//EN
CALSCALE:GREGORIAN
METHOD:PUBLISH
X-WR-CALNAME:Cobbs Glen Country Club
X-ORIGINAL-URL:https://cobbsglen.cc
X-WR-CALDESC:Events for Cobbs Glen Country Club
REFRESH-INTERVAL;VALUE=DURATION:PT1H
X-Robots-Tag:noindex
X-PUBLISHED-TTL:PT1H
BEGIN:VTIMEZONE
TZID:UTC
BEGIN:STANDARD
TZOFFSETFROM:+0000
TZOFFSETTO:+0000
TZNAME:UTC
DTSTART:20250101T000000
END:STANDARD
END:VTIMEZONE
BEGIN:VEVENT
DTSTART;VALUE=DATE:20260414
DTEND;VALUE=DATE:20260415
DTSTAMP:20260424T084046
CREATED:20260129T211813Z
LAST-MODIFIED:20260129T211813Z
UID:10000002-1776124800-1776211199@cobbsglen.cc
SUMMARY:PGA Junior League
DESCRIPTION:
URL:https://cobbsglen.cc/event/pga-junior-league/2026-04-14/
END:VEVENT
END:VCALENDAR